BEGIN:VCALENDAR
VERSION:2.0
PRODID:-//vandorboy - ECPv6.15.12.2//NONSGML v1.0//EN
CALSCALE:GREGORIAN
METHOD:PUBLISH
X-WR-CALNAME:vandorboy
X-ORIGINAL-URL:https://vandorboy.com/en
X-WR-CALDESC:Events for vandorboy
REFRESH-INTERVAL;VALUE=DURATION:PT1H
X-Robots-Tag:noindex
X-PUBLISHED-TTL:PT1H
BEGIN:VTIMEZONE
TZID:UTC
BEGIN:STANDARD
TZOFFSETFROM:+0000
TZOFFSETTO:+0000
TZNAME:UTC
DTSTART:20200101T000000
END:STANDARD
END:VTIMEZONE
BEGIN:VTIMEZONE
TZID:Europe/Budapest
BEGIN:DAYLIGHT
TZOFFSETFROM:+0100
TZOFFSETTO:+0200
TZNAME:CEST
DTSTART:20140330T010000
END:DAYLIGHT
BEGIN:STANDARD
TZOFFSETFROM:+0200
TZOFFSETTO:+0100
TZNAME:CET
DTSTART:20141026T010000
END:STANDARD
BEGIN:DAYLIGHT
TZOFFSETFROM:+0100
TZOFFSETTO:+0200
TZNAME:CEST
DTSTART:20150329T010000
END:DAYLIGHT
BEGIN:STANDARD
TZOFFSETFROM:+0200
TZOFFSETTO:+0100
TZNAME:CET
DTSTART:20151025T010000
END:STANDARD
BEGIN:DAYLIGHT
TZOFFSETFROM:+0100
TZOFFSETTO:+0200
TZNAME:CEST
DTSTART:20160327T010000
END:DAYLIGHT
BEGIN:STANDARD
TZOFFSETFROM:+0200
TZOFFSETTO:+0100
TZNAME:CET
DTSTART:20161030T010000
END:STANDARD
BEGIN:DAYLIGHT
TZOFFSETFROM:+0100
TZOFFSETTO:+0200
TZNAME:CEST
DTSTART:20170326T010000
END:DAYLIGHT
BEGIN:STANDARD
TZOFFSETFROM:+0200
TZOFFSETTO:+0100
TZNAME:CET
DTSTART:20171029T010000
END:STANDARD
BEGIN:DAYLIGHT
TZOFFSETFROM:+0100
TZOFFSETTO:+0200
TZNAME:CEST
DTSTART:20180325T010000
END:DAYLIGHT
BEGIN:STANDARD
TZOFFSETFROM:+0200
TZOFFSETTO:+0100
TZNAME:CET
DTSTART:20181028T010000
END:STANDARD
END:VTIMEZONE
BEGIN:VEVENT
DTSTART;VALUE=DATE:20221028
DTEND;VALUE=DATE:20221108
DTSTAMP:20260423T005434
CREATED:20200922T152512Z
LAST-MODIFIED:20220903T145907Z
UID:20430-1666915200-1667865599@vandorboy.com
SUMMARY:[:hu]Libanon körutazás[:]
DESCRIPTION:Sorry\, this entry is only available in Magyar.
URL:https://vandorboy.com/en/event/libanon-korutazas/
CATEGORIES:körutazások
END:VEVENT
BEGIN:VEVENT
DTSTART;VALUE=DATE:20210411
DTEND;VALUE=DATE:20210504
DTSTAMP:20260423T005434
CREATED:20200507T084732Z
LAST-MODIFIED:20201231T134856Z
UID:7088-1618099200-1620086399@vandorboy.com
SUMMARY:[:hu]Dél-Amerika út[:]
DESCRIPTION:Tervezek 2019 márciusára egy Bolivia- Peru- Equador körutat\, amiben benne lenne Galápagos szigetvilága is hosszabbításként. Még nincs kész programterv\, de sztem év végére ez is elkészül. \nBármelyik etápra csatlakozhatsz. \n21 érv\, hogy miért utazz velem?\nHa tervezted oda\, de nem egyedül\, s csatlakoznál kis társaságunkhoz\, akkor bátran \n jelezzed szándékodat itt.
URL:https://vandorboy.com/en/event/del-amerika-korut/
CATEGORIES:körutazások
END:VEVENT
BEGIN:VEVENT
DTSTART;TZID=Europe/Budapest:20170118T080000
DTEND;TZID=Europe/Budapest:20170215T170000
DTSTAMP:20260423T005434
CREATED:20221215T015422Z
LAST-MODIFIED:20220328T092648Z
UID:8863-1484726400-1487178000@vandorboy.com
SUMMARY:[:hu]Kuba-Costa Rica[:]
DESCRIPTION:Sorry\, this entry is only available in Magyar.
URL:https://vandorboy.com/en/event/kuba-costa-rica/
CATEGORIES:körutazások
END:VEVENT
BEGIN:VEVENT
DTSTART;TZID=Europe/Budapest:20150201T080000
DTEND;TZID=Europe/Budapest:20150208T170000
DTSTAMP:20260423T005434
CREATED:20141105T062624Z
LAST-MODIFIED:20141105T062817Z
UID:5126-1422777600-1423414800@vandorboy.com
SUMMARY:Thaiföld szigetei
DESCRIPTION:
URL:https://vandorboy.com/en/event/thaifold-szigetei-7-nap/
END:VEVENT
END:VCALENDAR