BEGIN:VCALENDAR
VERSION:2.0
PRODID:-//vandorboy - ECPv6.15.12.2//NONSGML v1.0//EN
CALSCALE:GREGORIAN
METHOD:PUBLISH
X-WR-CALNAME:vandorboy
X-ORIGINAL-URL:https://vandorboy.com/en
X-WR-CALDESC:Events for vandorboy
REFRESH-INTERVAL;VALUE=DURATION:PT1H
X-Robots-Tag:noindex
X-PUBLISHED-TTL:PT1H
BEGIN:VTIMEZONE
TZID:Europe/Budapest
BEGIN:DAYLIGHT
TZOFFSETFROM:+0100
TZOFFSETTO:+0200
TZNAME:CEST
DTSTART:20230326T010000
END:DAYLIGHT
BEGIN:STANDARD
TZOFFSETFROM:+0200
TZOFFSETTO:+0100
TZNAME:CET
DTSTART:20231029T010000
END:STANDARD
BEGIN:DAYLIGHT
TZOFFSETFROM:+0100
TZOFFSETTO:+0200
TZNAME:CEST
DTSTART:20240331T010000
END:DAYLIGHT
BEGIN:STANDARD
TZOFFSETFROM:+0200
TZOFFSETTO:+0100
TZNAME:CET
DTSTART:20241027T010000
END:STANDARD
BEGIN:DAYLIGHT
TZOFFSETFROM:+0100
TZOFFSETTO:+0200
TZNAME:CEST
DTSTART:20250330T010000
END:DAYLIGHT
BEGIN:STANDARD
TZOFFSETFROM:+0200
TZOFFSETTO:+0100
TZNAME:CET
DTSTART:20251026T010000
END:STANDARD
END:VTIMEZONE
BEGIN:VEVENT
DTSTART;VALUE=DATE:20240608
DTEND;VALUE=DATE:20240616
DTSTAMP:20260420T070517
CREATED:20201231T170045Z
LAST-MODIFIED:20230813T141545Z
UID:26785-1717804800-1718495999@vandorboy.com
SUMMARY:[:hu]Kanári-szigetek túrák[:]
DESCRIPTION:Kanári-szigetek körutazás+ La Palma sok túrával. \nIndulás tavasszal május 1 körül\,  ősszel okt. 23 körül. A repjegyárak függvényében ez változhat pár napot. \nRepjegy kb. 100 ezer ft csomaggal. Itt böngéssz Tenerife repjegyeket jó áron\, de ha Bécsből tudsz indulni\, sokszor kedvezőbb. \nAz út költsége létszámfüggő\, így ha érdekel akkor jelezzed itt az űrlapon \, küldjük a részletes tájékoztatót\, árakat stb.  Ha megvan a min. létszám\, akkor írunk mit kell tenni. \n—  Mit látsz?   Tenerife: \n Rural de Anaga Park\, felhőerdő \nPlaya de las Teresita \nChamorga \nTaganana – El Draguillo\,  \nTaborno\,  \nSan Cristobal de La LAguna \nLa Oratava – koloniális épületei \nMercedes erdőség\, sziklamedencék \nEl Portillo\, botanikus kert \nIcod de Los VInos  – 1000 éves sárkányfa \nCanadas trekking\, vagy (Teide hegy felvonóval) \nCueva del viento\, Punto de Teno \nEl Drago panorámaút \nMasca\, Los Gigantes sziklái \n delfin és bálna les \n+ LA PALMA SZIGETE \nLos Tilos vízesés \nlagunás fürdőhely \nCaldera de Taburiente National Park \nLP 107 panorámaútvonal \nZarza  y La Zarcita petroglifek \nAsztronómiai megfigyelők \nRoque de los Muchachos kilátópont \n El Paso \nEl Refugio del Pilar \nCueva de las Palomas – lávabarlang \n Fuencaliente \n San Antonio vulkán \nCaldera los Arreboles \nMontana del Pino \nTeneguia vulkán \nHogy lesz minderre időnk? \nÚgy hogy nem aludni megyünk\, hanem reggeltől estig megyünk! \nKanári szigetek közel van s mégis távol.  Kulturálisan spanyol hatás alatt\, de klímailag egy teljesen más világba kerülünk.  Rengeteg nemzeti parkja\, bioszféra rezervátuma\, kiváló túrázó helyei ideális célpont azoknak\, akik szeretik a természetet\, hegyeket\, tengert\,  különleges természeti jelenségeket\, mint köderdő. Erre a nagyon aktív utazásra hívunk téged is. \nA programunkat itt olvashatod .     \nígy ha érdekel akkor jelezzed itt az űrlapon \n21 érv\, hogy miért utazz velem?\nhttps://vandorboy.com/kanari-szigetek-korutazas-la-palma/
URL:https://vandorboy.com/en/event/kanari-szigetek-turak/
CATEGORIES:körutazások
ATTACH;FMTTYPE=image/jpeg:https://vandorboy.com/wp-content/uploads/2020/06/33-Tenerife-trekkingek-20.jpg
END:VEVENT
END:VCALENDAR