BEGIN:VCALENDAR
VERSION:2.0
PRODID:-//vandorboy - ECPv6.15.12.2//NONSGML v1.0//EN
CALSCALE:GREGORIAN
METHOD:PUBLISH
X-WR-CALNAME:vandorboy
X-ORIGINAL-URL:https://vandorboy.com/en
X-WR-CALDESC:Events for vandorboy
REFRESH-INTERVAL;VALUE=DURATION:PT1H
X-Robots-Tag:noindex
X-PUBLISHED-TTL:PT1H
BEGIN:VTIMEZONE
TZID:UTC
BEGIN:STANDARD
TZOFFSETFROM:+0000
TZOFFSETTO:+0000
TZNAME:UTC
DTSTART:20230101T000000
END:STANDARD
END:VTIMEZONE
BEGIN:VEVENT
DTSTART;VALUE=DATE:20240705
DTEND;VALUE=DATE:20240717
DTSTAMP:20260420T033206
CREATED:20220924T131610Z
LAST-MODIFIED:20240306T235312Z
UID:14122-1720137600-1721174399@vandorboy.com
SUMMARY:[:hu]Borneó körutazás[:]
DESCRIPTION:Borneó Nemzeti parkok.\nMalájziai körutazás 2019 okt 19 -nov 3\nAz út leírása itt \n  \nTehát ha tudsz jönni\, s érdekel az út s a részletek\, \nAkkor  jelezzed felém itt.!
URL:https://vandorboy.com/en/event/borneo-korutazas/
END:VEVENT
END:VCALENDAR