BEGIN:VCALENDAR
VERSION:2.0
PRODID:-//vandorboy - ECPv6.15.12.2//NONSGML v1.0//EN
CALSCALE:GREGORIAN
METHOD:PUBLISH
X-WR-CALNAME:vandorboy
X-ORIGINAL-URL:https://vandorboy.com
X-WR-CALDESC:Események vandorboy
REFRESH-INTERVAL;VALUE=DURATION:PT1H
X-Robots-Tag:noindex
X-PUBLISHED-TTL:PT1H
BEGIN:VTIMEZONE
TZID:UTC
BEGIN:STANDARD
TZOFFSETFROM:+0000
TZOFFSETTO:+0000
TZNAME:UTC
DTSTART:20240101T000000
END:STANDARD
END:VTIMEZONE
BEGIN:VEVENT
DTSTART;VALUE=DATE:20251218
DTEND;VALUE=DATE:20260107
DTSTAMP:20260425T044828
CREATED:20240412T085346Z
LAST-MODIFIED:20260424T144329Z
UID:9478-1766016000-1767743999@vandorboy.com
SUMMARY:[:hu]Fülöp-szk.-Borneó[:]
DESCRIPTION:Borneo\, orángután \nA Fülöp- szigetek  idén dec. indul. \nTervezek egy 2+2x 1 hetes körutat\, Boracay\, Coron\, El Nido\, Cebu és Bohol szigetekre. Változatos aktív\, tökéletes a karácsonyi ünnepekre.  \n  \nTehát ha tudsz jönni\, s érdekel az út s a részletek\,  Akkor jelezzed felém itt! \nIlletve ápr és október között pedig a   Borneó programot \,  \nbenne orangutánok\, dzsungelek\, trópusi szigetek\, törzsek\, népek\, kultúrák\, ízek\, illatok\, színek \, hangulatok\, és kalandok. \nTovábbá lehet menni tovább Indonéziába:  \nBali 5 nap programot beintegráltam Indonéz 5 sziget útba  \nilletve utóbbiakat 2 külön időpontban is.\n Külön is bármelyikre csatlakozhatsz\, s akkor úgy veszed a repjegyet. Egyeztetünk.\nÖsszetettem egy rövidített verziót is\, ebből Bali – Fülöp Szigetek kombinálható. Többeket ez érdekelt. \n21 érv\, hogy miért utazz velem?\nVárom jelentkezéseteket\, kérdéseiteket. \nTehát ha tudsz jönni\, s érdekel az út s a részletek\, írj\, \nAkkor jelezzed felém itt.!\n \n\n\n\n \n \n \nFülöp szk. utazás febr.\n \n\n\nnap\ndátum\nprogram\nprogram\nszállás\n\n\n \n \n \n \n \n\n\n \n \n \nElőhosszabbítás\n \n\n\n1\n \nkedd\nBudapest indulás előhosszabbítóknak\n \n\n\n2\n \nszerda\nCalamian  szigetvilág\, Coron szigete (Busuanga)\nCoron\n\n\n3\n \ncsütörtök\nCoron szigete (Busuanga)\nCoron\n\n\n4\n \npéntek\nCoron szigete (Busuanga)\nCoron\n\n\n5\n \nszombat\nIndulás hajóval El Nidoba\nEl Nido\n\n\n \n \n \nAz alap program\n \n\n\n1\n \npéntek\nBud  indul 23.50h – Moszkva-\nrepül\n\n\n2\n \nszombat\nrepül\, moszkva – sanghai-\nrepül\n\n\n3\n \nvasárnap\nManila érk  05.40 hajnal   – 10h El Nido\nEl nido\n\n\n4\n \nhétfő\nEl Nido  pihenő nap\, környéki beachek\nEl nido\n\n\n5\n \nkedd\nhajós kirándulás A.\nEl nido\n\n\n6\n \nszerda\nhajós kirándulás B\nEl nido\n\n\n7\n \ncsütörtök\n Sabang fele (hajó vagy busz)\nSabang\n\n\n8\n \npéntek\nSabang\, Underground river\, + trekking\nSabang\n\n\n9\n \nszombat\nzipline\, mangrove\, pihi\nSabang\n\n\n10\n \nvasárnap\nPuerta Princessa – Cebu (repül) du.\nCebu\n\n\n11\n \nhétfő\nCebu cápázás\, vízesés\, kanyoning\ncebu\n\n\n12\n \nkedd\nmalapasca sziget day tour\ncebu\n\n\n13\n \nszerda\nCsokoládé hegyek\, Lobok\, kobold maki\n Panglao\n\n\n14\n \ncsütörtök\nHajótúra\nPanglao\n\n\n15\n \npéntek\nVízesések\, fürdés\nPanglao\n\n\n16\n \nszombat\nTagbilaran – Manila\nManila\n\n\n17\n \nvasárnap\nManila este repül\nRepül\n\n\n18\n \nhétfő\nManila – Bp\, érk este 22h\n 
URL:https://vandorboy.com/event/borneo-es-fulop-szigetek/
LOCATION:Philippines\, Philippines
CATEGORIES:körutazások
ATTACH;FMTTYPE=image/jpeg:https://vandorboy.com/wp-content/uploads/2020/05/Fülöp-szk-drón-11.jpg
END:VEVENT
BEGIN:VEVENT
DTSTART;VALUE=DATE:20251220
DTEND;VALUE=DATE:20260119
DTSTAMP:20260425T044828
CREATED:20201217T083655Z
LAST-MODIFIED:20250728T222618Z
UID:8793-1766188800-1768780799@vandorboy.com
SUMMARY:[:hu]Laosz-Vietnam-Kambodzsa.[:]
DESCRIPTION:Kambodzsa Angkor Wat és a szerzetes \nEsemény:\nLaosz- Vietnám-Kambodzsa- Thaiföld 2-3 hetes rapid körutunk a főbb látványosságokra fókuszál. 22 nap programja itt. \nA régi 17 nap programunk ITT OLVASHATÓ. \nUtána lesz 1 hét Thaiföld utazás is\, majd 2 hét Burma. \nAhol lehet repülünk\, illetve városokban saját bérelt taxi / kocsi lesz. \nVárosok között  bérlünk egy saját kisbuszt. \nSzállásaink tekintetében rugalmasak vagyunk\, de 2 ágyas fürdős szokott lenni. Baráti társaságként indulnánk de lehet csatlakozni külsösként is. \nHa érdekelnek részletek\, itt írj nekem. \nBármi kérdésed van keress bátran. \nAz út előtt még csinálunk egy online utastalit\, hogy a maradék kérdésekre is választ kaphass amit itt nem találsz: https://vandorboy.com/d-k-azsia-ut-tudnivalok/ \nA karácsonyi ünnepekre tettem az utat\, akkor a legjobb a klíma\, s kevés szabadságból is kijön\, cserébe drága a repjegy.. ha nem iőben veszed meg. \n \n21 érv\, hogy miért utazz velem? \nÉrdemes jelezni\, ha érdekel az út\, mert amikor elérjük a minimum létszámot akkor elkezdhetjük a készülődést\, intézni a vízumot\, illetve a repjegyeket\, amelyek annál olcsóbbak\, minél korábban vesszük. \nAmennyiben érdekel az út\, akkor\n\n\n\nA blokk\nKambodzsa blokk\n\n\n12.21\nBud- BKK\n\n\n12.22\nérk Bkk\, repül Cambodia\n\n\n12.23\nTonle Sap tavon hajós kirándulás\, cölöp falu\n\n\n12.24\nAngkor Wat UNESCO rom nézés 1. nap\n\n\n12.25\nrom nézés 2. nap külső terület\, esti kultur show\n\n\n12.26\nskanzen fél nap\, piac\, masszázs\, este 22h repülő Bkk\n\n\n \n \n\n\ndate\nProgram\n\n\nB blokk\nLaosz-Vietnam blokk\n\n\n12.26\nBud- BKK – repül\n\n\n12.27\nBangkok  érkezés\, belvárosi séta\, masszázs\, gasztro blokk\n\n\n12.28\nBangkok (Don Muang)-Vientian repülés\, du séta\, gasztro\n\n\n12.29\nvárosnézés Vientian\, kolostorok\, diadalív\, arany sztupa\n\n\n12.30\nbus 4h \, majd kenu vagy gumi tube csurgás a folyón\n\n\n12.31\nkarszt barlangok\, motor bérlés\, + pihi\n\n\n1.1\nBusz 6 óra \, városnézés\, Múzeum\, szauna\, esti piac\n\n\n1.2\nHajós nap\, barlangok\, falu\, piac\, esti show műsor\n\n\n1.3\nvárosnézés\, vízesés\, este repülés Hanoi-ba\n\n\n \n \n\n\n1.4\nHanoi városnézés\, börtön\, pagodák\, óvárosi séta\, piac\n\n\n1.5\nHalong bay Hajós nap\, barlangok\, kilátók\, kagyló farm\n\n\n1.6\nHalong Hajó\, kenuzás\,  majd vissza Hanoi\, vizibábszínház\n\n\n1.7\n Ninh Binh – Trang An UNESCO site\, rizsföldek\,\n\n\n \n \n\n\nC blokk\nDél Vietnam blokk\n\n\n1.8\nHue hajókázás\, fellegvár\, Thai Hoa Palotát\n\n\n1.9\nBa Na hegyei\, Arany híd\,\n\n\n1.10\nTho Bon hajókázás\, fazekas falu\, Thanh Nam halászfalu\n\n\n1.11\nHoi An városnézés\, Tra Que fűszer falu\, repülés\n\n\n1.12\nMekong delta hajókázás\,\n\n\n1.13\nCao Dai vallás\,  Cu Chi háborús  alagutak\, repül 19h\n\n\n1.14\nérk Bp\n\n\n \n \n\n\nE blokk\nThaiföld blokk\, Kho Sok Nemzeti park\n\n\n1.14\nBangkok – Shurat thani\n\n\n1.15\nKahao Sok 1 nap vizi safari\, kajakozás\, vizes barlang\n\n\n1.16\nKhao Sok\, vizi safari\n\n\n1.17\nKhao Sok – Shurat thani Bangkok – / Phuket\n\n\n1.18\nBangkok Bp
URL:https://vandorboy.com/event/laosz-vietnam-kambodzsa/
CATEGORIES:körutazások
ATTACH;FMTTYPE=image/jpeg:https://vandorboy.com/wp-content/uploads/2018/03/Laosz-képek-2019-11.jpg
END:VEVENT
END:VCALENDAR